BEGIN:VCALENDAR
VERSION:2.0
PRODID:-//SMF – Schweiz - ECPv4.6.24.1//NONSGML v1.0//EN
CALSCALE:GREGORIAN
METHOD:PUBLISH
X-WR-CALNAME:SMF – Schweiz
X-ORIGINAL-URL:http://www.smf-schweiz.org
X-WR-CALDESC:Events for SMF – Schweiz
BEGIN:VEVENT
DTSTART;TZID=UTC+0:20241207T070000
DTEND;TZID=UTC+0:20241207T170000
DTSTAMP:20260419T162454
CREATED:20240121T094414Z
LAST-MODIFIED:20240121T094414Z
UID:5542-1733554800-1733590800@www.smf-schweiz.org
SUMMARY:Chlauscup (Spürhundeprüfung)
DESCRIPTION:
URL:http://www.smf-schweiz.org/event/chlauscup-spuerhundepruefung/
LOCATION:ZAR Emmental-Oberaargau AG\, Wynaustrasse 101\, Aarwangen\, 4912\, Schweiz
GEO:47.2459755;7.7809493
X-APPLE-STRUCTURED-LOCATION;VALUE=URI;X-ADDRESS=ZAR Emmental-Oberaargau AG Wynaustrasse 101 Aarwangen 4912 Schweiz;X-APPLE-RADIUS=500;X-TITLE=Wynaustrasse 101:geo:7.7809493,47.2459755
CATEGORIES:Diensthunde Prüfung
ORGANIZER;CN="SMF%20Schweiz":MAILTO:info@smf-schweiz.org
END:VEVENT
END:VCALENDAR