BEGIN:VCALENDAR
VERSION:2.0
PRODID:-//SMF – Schweiz - ECPv4.6.24.1//NONSGML v1.0//EN
CALSCALE:GREGORIAN
METHOD:PUBLISH
X-WR-CALNAME:SMF – Schweiz
X-ORIGINAL-URL:http://www.smf-schweiz.org
X-WR-CALDESC:Events for SMF – Schweiz
BEGIN:VEVENT
DTSTART;TZID=UTC+0:20230323T193000
DTEND;TZID=UTC+0:20230323T220000
DTSTAMP:20260419T120821
CREATED:20230319T141652Z
LAST-MODIFIED:20230319T141652Z
UID:5003-1679599800-1679608800@www.smf-schweiz.org
SUMMARY:Training RG Zentralschweiz
DESCRIPTION:
URL:http://www.smf-schweiz.org/event/training-rg-zentralschweiz-66/
LOCATION:Stans\, Gnappiried\, Stans\, Nidwalden\, 6370\, Schweiz
CATEGORIES:Training Regional Gruppe
ORGANIZER;CN="SMF%20RG%20Zentralschweiz":MAILTO:rgzentralschweiz@smf-schweiz.org
END:VEVENT
END:VCALENDAR