BEGIN:VCALENDAR
VERSION:2.0
PRODID:-//SMF – Schweiz - ECPv4.6.24.1//NONSGML v1.0//EN
CALSCALE:GREGORIAN
METHOD:PUBLISH
X-WR-CALNAME:SMF – Schweiz
X-ORIGINAL-URL:http://www.smf-schweiz.org
X-WR-CALDESC:Events for SMF – Schweiz
BEGIN:VEVENT
DTSTART;TZID=UTC+0:20230330T193000
DTEND;TZID=UTC+0:20230330T220000
DTSTAMP:20260419T133507
CREATED:20230319T141921Z
LAST-MODIFIED:20230319T142201Z
UID:5006-1680204600-1680213600@www.smf-schweiz.org
SUMMARY:Training RG Zentralschweiz
DESCRIPTION:
URL:http://www.smf-schweiz.org/event/training-rg-zentralschweiz-67/
LOCATION:Stans\, Gnappiried\, Stans\, Nidwalden\, 6370\, Schweiz
CATEGORIES:Training Regional Gruppe
ORGANIZER;CN="SMF%20RG%20Zentralschweiz":MAILTO:rgzentralschweiz@smf-schweiz.org
END:VEVENT
END:VCALENDAR