BEGIN:VCALENDAR
VERSION:2.0
PRODID:-//SMF – Schweiz - ECPv4.6.24.1//NONSGML v1.0//EN
CALSCALE:GREGORIAN
METHOD:PUBLISH
X-WR-CALNAME:SMF – Schweiz
X-ORIGINAL-URL:http://www.smf-schweiz.org
X-WR-CALDESC:Events for SMF – Schweiz
BEGIN:VEVENT
DTSTART;VALUE=DATE:20230702
DTEND;VALUE=DATE:20230703
DTSTAMP:20260421T102252
CREATED:20230319T143654Z
LAST-MODIFIED:20230319T143654Z
UID:5035-1688256000-1688342399@www.smf-schweiz.org
SUMMARY:Training RG Zentralschweiz
DESCRIPTION:
URL:http://www.smf-schweiz.org/event/training-rg-zentralschweiz-77/
LOCATION:Kiesgrube Horw\, Horw\, 6048\, Schweiz
CATEGORIES:Training Regional Gruppe
ORGANIZER;CN="SMF%20RG%20Zentralschweiz":MAILTO:rgzentralschweiz@smf-schweiz.org
END:VEVENT
END:VCALENDAR